BEGIN:VCALENDAR
VERSION:2.0
PRODID:-//eventon.com NONSGML v1.0//EN
CALSCALE:GREGORIAN
METHOD:PUBLISH
BEGIN:VEVENT
UID:69e7dde903bab
DTSTAMP:20260421T202825Z
DTSTART:20240920T210000Z
DTEND:20240930T230000Z
LOCATION:Sucina Town Centre
SUMMARY:Sucina Festival - Friday 20 September - 07 October 2024
DESCRIPTION:\nhttps://haciendariquelmegolfresort.com/events/sucina-festival
 -friday-20-september-07-october-2024/
URL:https://haciendariquelmegolfresort.com/events/sucina-festival-friday-20-september-07-october-2024/
END:VEVENT
END:VCALENDAR